BEGIN:VCALENDAR
VERSION:2.0
PRODID:-//Massachusetts Health Connector - ECPv6.15.18//NONSGML v1.0//EN
CALSCALE:GREGORIAN
METHOD:PUBLISH
X-WR-CALNAME:Massachusetts Health Connector
X-ORIGINAL-URL:https://betterhealthconnector.com
X-WR-CALDESC:Events for Massachusetts Health Connector
REFRESH-INTERVAL;VALUE=DURATION:PT1H
X-Robots-Tag:noindex
X-PUBLISHED-TTL:PT1H
BEGIN:VTIMEZONE
TZID:America/New_York
BEGIN:DAYLIGHT
TZOFFSETFROM:-0500
TZOFFSETTO:-0400
TZNAME:EDT
DTSTART:20250309T070000
END:DAYLIGHT
BEGIN:STANDARD
TZOFFSETFROM:-0400
TZOFFSETTO:-0500
TZNAME:EST
DTSTART:20251102T060000
END:STANDARD
BEGIN:DAYLIGHT
TZOFFSETFROM:-0500
TZOFFSETTO:-0400
TZNAME:EDT
DTSTART:20260308T070000
END:DAYLIGHT
BEGIN:STANDARD
TZOFFSETFROM:-0400
TZOFFSETTO:-0500
TZNAME:EST
DTSTART:20261101T060000
END:STANDARD
BEGIN:DAYLIGHT
TZOFFSETFROM:-0500
TZOFFSETTO:-0400
TZNAME:EDT
DTSTART:20270314T070000
END:DAYLIGHT
BEGIN:STANDARD
TZOFFSETFROM:-0400
TZOFFSETTO:-0500
TZNAME:EST
DTSTART:20271107T060000
END:STANDARD
END:VTIMEZONE
BEGIN:VEVENT
DTSTART;TZID=America/New_York:20260506T120000
DTEND;TZID=America/New_York:20260506T130000
DTSTAMP:20260423T075201
CREATED:20260422T150510Z
LAST-MODIFIED:20260422T150510Z
UID:67786-1778068800-1778072400@betterhealthconnector.com
SUMMARY:Get Covered: Health Insurance for Individuals and Families (Webinar)
DESCRIPTION:Explore health insurance options for individuals and families and learn how to enroll through the Massachusetts Health Connector. \nJoin team members from the Massachusetts Health Connector for an informative session on available health coverage options for individuals and families in Massachusetts. Whether you are newly uninsured\, you may be losing coverage\, or just exploring your options\, this session will help you understand how to get covered. \nRegister NowYou’ll learn how the Health Connector works\, what types of plans are available\, and how certain life changes—like losing job-based coverage or changes in household size—may qualify you for a Special Enrollment Period. \nHow this event may help you \nHealth Connector experts will walk you through the steps to access coverage outside of Open Enrollment and explain key topics to help you make informed decisions about your health insurance. \nThis session will cover the following: \n\nWhat is the Massachusetts Health Connector?\nInformation about health and dental coverage types available to individuals and families at MAhealthconnector.org.\nDetails about life changes that allow for a special enrollment period\nTips for estimating the cost of monthly premiums.\n\nWhether you’re looking for coverage for yourself or your family\, the Health Connector may have the right plan for you. \n————– \nThis webinar will provide general information on Massachusetts Health Connector coverage and other topics\, but it will not be able to help anyone with their specific health coverage questions. If you need help with your renewal\, application\, or coverage\, you should speak with a state-certified Enrollment Assister. Find help near you at https://my.mahealthconnector.org/directory/categories/individuals-and-families
URL:/event/get-covered-health-insurance-for-individuals-and-families-webinar
LOCATION:Online
CATEGORIES:Education Events,Webinar
ATTACH;FMTTYPE=image/jpeg:https://betterhealthconnector.com/wp-content/uploads/ng-webinar-event-thumbnail-050626.jpg
END:VEVENT
END:VCALENDAR