BEGIN:VCALENDAR
VERSION:2.0
PRODID:-//Massachusetts Health Connector - ECPv6.15.18//NONSGML v1.0//EN
CALSCALE:GREGORIAN
METHOD:PUBLISH
X-WR-CALNAME:Massachusetts Health Connector
X-ORIGINAL-URL:https://betterhealthconnector.com
X-WR-CALDESC:Events for Massachusetts Health Connector
REFRESH-INTERVAL;VALUE=DURATION:PT1H
X-Robots-Tag:noindex
X-PUBLISHED-TTL:PT1H
BEGIN:VTIMEZONE
TZID:America/New_York
BEGIN:DAYLIGHT
TZOFFSETFROM:-0500
TZOFFSETTO:-0400
TZNAME:EDT
DTSTART:20230312T070000
END:DAYLIGHT
BEGIN:STANDARD
TZOFFSETFROM:-0400
TZOFFSETTO:-0500
TZNAME:EST
DTSTART:20231105T060000
END:STANDARD
BEGIN:DAYLIGHT
TZOFFSETFROM:-0500
TZOFFSETTO:-0400
TZNAME:EDT
DTSTART:20240310T070000
END:DAYLIGHT
BEGIN:STANDARD
TZOFFSETFROM:-0400
TZOFFSETTO:-0500
TZNAME:EST
DTSTART:20241103T060000
END:STANDARD
BEGIN:DAYLIGHT
TZOFFSETFROM:-0500
TZOFFSETTO:-0400
TZNAME:EDT
DTSTART:20250309T070000
END:DAYLIGHT
BEGIN:STANDARD
TZOFFSETFROM:-0400
TZOFFSETTO:-0500
TZNAME:EST
DTSTART:20251102T060000
END:STANDARD
END:VTIMEZONE
BEGIN:VEVENT
DTSTART;TZID=America/New_York:20240914T130000
DTEND;TZID=America/New_York:20240914T200000
DTSTAMP:20260420T083735
CREATED:20240905T031259Z
LAST-MODIFIED:20240905T032249Z
UID:55399-1726318800-1726344000@betterhealthconnector.com
SUMMARY:Viva Mexico Festival
DESCRIPTION:The Health Connector is proud to be a sponsor of the Viva Mexico Festival on Saturday\, September 14th. We are excited to support this vibrant celebration of Mexican Independence Day\, culture\, and community. This event is organized by Veronica Robles Cultural Center in collaboration with the Mexican Consulate in Boston and members of the Mexican community through the traditions committee. \nA Health Connector team will be on-site at the Festival and ready to assist attendees interested in learning more about getting health insurance. Come find us at the event to discover how we can help you access coverage. We look forward to seeing you there! \n\nEvent Schedule
URL:/event/viva-mexico-festival
LOCATION:Viva Mexico\, Border Street\, East Boston\, 02128\, United States
CATEGORIES:Outreach Event
ATTACH;FMTTYPE=image/jpeg:https://betterhealthconnector.com/wp-content/uploads/Viva-Mexico-Festival-09152024.jpg
END:VEVENT
END:VCALENDAR